BEGIN:VCALENDAR
VERSION:2.0
PRODID:-//Pennsylvania Gateway to Green - ECPv6.15.20//NONSGML v1.0//EN
CALSCALE:GREGORIAN
METHOD:PUBLISH
X-WR-CALNAME:Pennsylvania Gateway to Green
X-ORIGINAL-URL:https://pagatewaytogreen.org
X-WR-CALDESC:Events for Pennsylvania Gateway to Green
REFRESH-INTERVAL;VALUE=DURATION:PT1H
X-Robots-Tag:noindex
X-PUBLISHED-TTL:PT1H
BEGIN:VTIMEZONE
TZID:America/New_York
BEGIN:DAYLIGHT
TZOFFSETFROM:-0500
TZOFFSETTO:-0400
TZNAME:EDT
DTSTART:20240310T070000
END:DAYLIGHT
BEGIN:STANDARD
TZOFFSETFROM:-0400
TZOFFSETTO:-0500
TZNAME:EST
DTSTART:20241103T060000
END:STANDARD
BEGIN:DAYLIGHT
TZOFFSETFROM:-0500
TZOFFSETTO:-0400
TZNAME:EDT
DTSTART:20250309T070000
END:DAYLIGHT
BEGIN:STANDARD
TZOFFSETFROM:-0400
TZOFFSETTO:-0500
TZNAME:EST
DTSTART:20251102T060000
END:STANDARD
BEGIN:DAYLIGHT
TZOFFSETFROM:-0500
TZOFFSETTO:-0400
TZNAME:EDT
DTSTART:20260308T070000
END:DAYLIGHT
BEGIN:STANDARD
TZOFFSETFROM:-0400
TZOFFSETTO:-0500
TZNAME:EST
DTSTART:20261101T060000
END:STANDARD
END:VTIMEZONE
BEGIN:VEVENT
DTSTART;TZID=America/New_York:20250318T090000
DTEND;TZID=America/New_York:20250318T153000
DTSTAMP:20260425T084134
CREATED:20241212T182811Z
LAST-MODIFIED:20250127T195105Z
UID:781-1742288400-1742311800@pagatewaytogreen.org
SUMMARY:Bringing MWEE to Life!
DESCRIPTION:When: Tuesday\, March 18\, 2025\, from 9 a.m. to 3:30 p.m.\n\n\n\nWhere: Raccoon Creek State Park\, 3000 PA-18\, Hookstown\, PA 15050.\n\n\n\nAudience: Grades 3-12 classroom teachers.\n\n\n\nCredits: Act 48 continuing education hours will be provided for Pa. Certified Teachers.\n\n\n\nCost: Free.\n\n\n\nMWEE Designation: Pa. Certified MWEE Ambassador.\n\n\n\n\n \n\n\n\n\nRegister Now\n\n\n\nDownload Flyer\n\n\n\n\n \n\n\n\nJoin Intermediate Unit 1 (IU1) and Beaver Valley Intermediate Unit (BVIU) in partnership with Jennings Environmental Education Center and Raccoon Creek State Park for a FREE and engaging meaningful\, relevant\, and real watershed education experience! This session is limited to 20 participants due to available space. \n\n\n\nJoin us to learn how to successfully implement Meaningful Watershed Educational Experiences (MWEEs) in your classroom\, while fully engaging in each element of a MWEE on-site. MWEEs fully support the Environmental Literacy and Sustainability domain in the new PA STEELS Standards.
URL:https://pagatewaytogreen.org/event/bringing-mwee-to-life/
LOCATION:Raccoon Creek State Park\, 3000 PA-18\, Hookstown\, Pennsylvania\, 15050\, United States
END:VEVENT
END:VCALENDAR