BEGIN:VCALENDAR
VERSION:2.0
PRODID:-//Pennsylvania Gateway to Green - ECPv6.15.20//NONSGML v1.0//EN
CALSCALE:GREGORIAN
METHOD:PUBLISH
X-WR-CALNAME:Pennsylvania Gateway to Green
X-ORIGINAL-URL:https://pagatewaytogreen.org
X-WR-CALDESC:Events for Pennsylvania Gateway to Green
REFRESH-INTERVAL;VALUE=DURATION:PT1H
X-Robots-Tag:noindex
X-PUBLISHED-TTL:PT1H
BEGIN:VTIMEZONE
TZID:America/New_York
BEGIN:DAYLIGHT
TZOFFSETFROM:-0500
TZOFFSETTO:-0400
TZNAME:EDT
DTSTART:20240310T070000
END:DAYLIGHT
BEGIN:STANDARD
TZOFFSETFROM:-0400
TZOFFSETTO:-0500
TZNAME:EST
DTSTART:20241103T060000
END:STANDARD
BEGIN:DAYLIGHT
TZOFFSETFROM:-0500
TZOFFSETTO:-0400
TZNAME:EDT
DTSTART:20250309T070000
END:DAYLIGHT
BEGIN:STANDARD
TZOFFSETFROM:-0400
TZOFFSETTO:-0500
TZNAME:EST
DTSTART:20251102T060000
END:STANDARD
BEGIN:DAYLIGHT
TZOFFSETFROM:-0500
TZOFFSETTO:-0400
TZNAME:EDT
DTSTART:20260308T070000
END:DAYLIGHT
BEGIN:STANDARD
TZOFFSETFROM:-0400
TZOFFSETTO:-0500
TZNAME:EST
DTSTART:20261101T060000
END:STANDARD
END:VTIMEZONE
BEGIN:VEVENT
DTSTART;TZID=America/New_York:20250409T090000
DTEND;TZID=America/New_York:20250409T153000
DTSTAMP:20260425T072506
CREATED:20240918T205110Z
LAST-MODIFIED:20250127T203033Z
UID:724-1744189200-1744212600@pagatewaytogreen.org
SUMMARY:Supporting Environmental Literacy Across the Curriculum With the MWEE Framework
DESCRIPTION:When: Wednesday\, April 9\, 2025\, from 9 a.m. to 3:30 p.m.\n\n\n\nWhere: Silver Lake Nature Center\, 1306 Bath Road\, Bristol\, PA 19007.\n\n\n\nAudience: Grades 3-12 classroom teachers and nonformal educators.\n\n\n\nCredits: Six Act 48 continuing education hours will be provided for Pa. Certified Teachers.\n\n\n\nCost: Free\, including lunch.\n\n\n\nMWEE Designation: Pa. Certified MWEE Ambassador.\n\n\n\n\n \n\n\n\n\nRegister Now\n\n\n\nDownload Flyer\n\n\n\n\n \n\n\n\nThe environment provides endless opportunities for authentic learning experiences that support your entire curriculum. When students learn through systemic and well-designed environmental education\, they build background content knowledge to support literacy\, experience authentic\, hands-on learning that advances STEM and promotes career readiness.  \n\n\n\nRecognizing the complexities of implementing student-driven\, authentic\, and locally relevant environmental education that meets academic goals\, we will explore the Meaningful Watershed Education Experience (MWEE). This well-established framework provides the structure and resources to support integrating environmental education in schools that aligns to Pa. STEELS Standards\, including the Environmental Literacy and Sustainability domain. \n\n\n\nThis workshop will include an outdoor field experience — participants should dress appropriately. The MWEE team will follow up with site-specific details prior to the workshop date. \n\n\n\nThis workshop is provided in partnership with Heritage Conservancy and supported by their Department of Environmental Protection Environmental Education Grant. \n\n\n\nQuestions? Please contact Events@BucksIU.org.
URL:https://pagatewaytogreen.org/event/supporting-elit-with-the-mwee-april-2025/
LOCATION:Silver Lake Nature Center\, 1306 Bath Road\, Bristol\, Pennsylvania\, 19007\, United States
END:VEVENT
END:VCALENDAR