BEGIN:VCALENDAR
VERSION:2.0
PRODID:-//Pennsylvania Gateway to Green - ECPv6.15.20//NONSGML v1.0//EN
CALSCALE:GREGORIAN
METHOD:PUBLISH
X-ORIGINAL-URL:https://pagatewaytogreen.org
X-WR-CALDESC:Events for Pennsylvania Gateway to Green
REFRESH-INTERVAL;VALUE=DURATION:PT1H
X-Robots-Tag:noindex
X-PUBLISHED-TTL:PT1H
BEGIN:VTIMEZONE
TZID:America/New_York
BEGIN:DAYLIGHT
TZOFFSETFROM:-0500
TZOFFSETTO:-0400
TZNAME:EDT
DTSTART:20240310T070000
END:DAYLIGHT
BEGIN:STANDARD
TZOFFSETFROM:-0400
TZOFFSETTO:-0500
TZNAME:EST
DTSTART:20241103T060000
END:STANDARD
BEGIN:DAYLIGHT
TZOFFSETFROM:-0500
TZOFFSETTO:-0400
TZNAME:EDT
DTSTART:20250309T070000
END:DAYLIGHT
BEGIN:STANDARD
TZOFFSETFROM:-0400
TZOFFSETTO:-0500
TZNAME:EST
DTSTART:20251102T060000
END:STANDARD
BEGIN:DAYLIGHT
TZOFFSETFROM:-0500
TZOFFSETTO:-0400
TZNAME:EDT
DTSTART:20260308T070000
END:DAYLIGHT
BEGIN:STANDARD
TZOFFSETFROM:-0400
TZOFFSETTO:-0500
TZNAME:EST
DTSTART:20261101T060000
END:STANDARD
END:VTIMEZONE
BEGIN:VEVENT
DTSTART;TZID=America/New_York:20250428T000000
DTEND;TZID=America/New_York:20250429T235959
DTSTAMP:20260423T060233
CREATED:20240918T204618Z
LAST-MODIFIED:20250127T195629Z
UID:730-1745798400-1745971199@pagatewaytogreen.org
SUMMARY:Dive Even Deeper: Watershed Literacy and Tree Plantings
DESCRIPTION:When: April 28 and 29\, 2025.\n\n\n\nWhere: Southeast Agricultural Research\, 1446 Auction Road\, Manheim\, PA 17545.\n\n\n\nAudience: K-12 classroom teachers and administrators\, preservice teachers\, and nonformal educators.\n\n\n\nCredits: Act 48 continuing education hours will be provided for Pa. Certified Teachers.\n\n\n\nCost: $15 to cover light refreshments and lunch each day.\n\n\n\nMWEE Designation: Pa. Certified MWEE Ambassador.\n\n\n\n\n \n\n\n\n\nRegister Now\n\n\n\n\n \n\n\n\nJoin Penn State Extension\, the Ag and Environment Center\, Pennsylvania Sea Grant\, and fellow educators from across the Commonwealth for two days of immersive\, hands-on watershed learning through the Meaningful Watershed Educational Experience (MWEE) curricular framework. The Dive Even Deeper—MWEEs and Trees Workshop is an extension of Penn State Extension’s award-winning Dive Deeper Water Educators Summit. It is designed to enhance your understanding by offering a Pa. Certified MWEE Ambassador workshop\, an interactive session on tree species and planting protocols\, and a comprehensive checklist for planning successful planting projects. This program is designed to equip educators with the tools and knowledge needed to create impactful environmental literacy experiences. \n\n\n\nParticipants may attend one or both days of the workshop for the same cost. Those who complete both days of in-person instruction\, along with the online MWEE 101 course\, will be designated as Pa. Certified MWEE Ambassadors. They will also receive program materials on tree identification and planting procedures to ensure the success of youth-led tree planting projects. \n\n\n\nRegistration fee covers light refreshments and lunch each day. \n\n\n\nSpace is limited. Preregistration is required.
URL:https://pagatewaytogreen.org/event/dive-even-deeper-watershed-literacy-and-tree-plantings/
LOCATION:Southeast Agricultural Research\, 1446 Auction Road\, Manheim\, Pennsylvania\, 17545\, United States
END:VEVENT
END:VCALENDAR