BEGIN:VCALENDAR
VERSION:2.0
PRODID:-//Pennsylvania Gateway to Green - ECPv6.15.20//NONSGML v1.0//EN
CALSCALE:GREGORIAN
METHOD:PUBLISH
X-ORIGINAL-URL:https://pagatewaytogreen.org
X-WR-CALDESC:Events for Pennsylvania Gateway to Green
REFRESH-INTERVAL;VALUE=DURATION:PT1H
X-Robots-Tag:noindex
X-PUBLISHED-TTL:PT1H
BEGIN:VTIMEZONE
TZID:America/New_York
BEGIN:DAYLIGHT
TZOFFSETFROM:-0500
TZOFFSETTO:-0400
TZNAME:EDT
DTSTART:20240310T070000
END:DAYLIGHT
BEGIN:STANDARD
TZOFFSETFROM:-0400
TZOFFSETTO:-0500
TZNAME:EST
DTSTART:20241103T060000
END:STANDARD
BEGIN:DAYLIGHT
TZOFFSETFROM:-0500
TZOFFSETTO:-0400
TZNAME:EDT
DTSTART:20250309T070000
END:DAYLIGHT
BEGIN:STANDARD
TZOFFSETFROM:-0400
TZOFFSETTO:-0500
TZNAME:EST
DTSTART:20251102T060000
END:STANDARD
BEGIN:DAYLIGHT
TZOFFSETFROM:-0500
TZOFFSETTO:-0400
TZNAME:EDT
DTSTART:20260308T070000
END:DAYLIGHT
BEGIN:STANDARD
TZOFFSETFROM:-0400
TZOFFSETTO:-0500
TZNAME:EST
DTSTART:20261101T060000
END:STANDARD
END:VTIMEZONE
BEGIN:VEVENT
DTSTART;TZID=America/New_York:20250520T083000
DTEND;TZID=America/New_York:20250520T153000
DTSTAMP:20260421T053246
CREATED:20250421T193257Z
LAST-MODIFIED:20250421T193257Z
UID:830-1747729800-1747755000@pagatewaytogreen.org
SUMMARY:Shared Waters: Environmental Literacy and Sustainability for Grades 3-5
DESCRIPTION:When: Tuesday\, May 20\, 2025\, from 8:30 a.m. to 3:30 p.m.\n\n\n\nWhere: Delaware County Intermediate Unit\, 200 Yale Avenue\, Morton\, PA 19070.\n\n\n\nAudience: K-12 classroom teachers\, administrators and curriculum designers\, preservice teachers\, and nonformal educators.\n\n\n\nCredits: Seven Act 48 continuing education hours will be provided for Pa. Certified Teachers.\n\n\n\nCost: Free.\n\n\n\nMWEE Designation: MWEE and EL&S Special Topics and Deeper Dives.\n\n\n\n\n \n\n\n\n\nRegister Now\n\n\n\n\n \n\n\n\nJoin fellow teachers to learn about Shared Waters\, an open educational resource specifically designed for STEELS standards\, with one of the designers of the curriculum\, Dr. Nanette Marcum-Dietrich! \n\n\n\nThe learning activities of the day will involve both indoor and outdoor investigations. Participants will leave with the confidence to plan and teach lessons aligned to the Environmental Literacy and Sustainability standards.
URL:https://pagatewaytogreen.org/event/shared-waters-environmental-literacy-and-sustainability-for-grades-3-5/
LOCATION:Delaware County Intermediate Unit\, 200 Yale Avenue\, Morton\, Pennsylvania\, 19070\, United States
END:VEVENT
BEGIN:VEVENT
DTSTART;TZID=America/New_York:20250520T083000
DTEND;TZID=America/New_York:20250521T170000
DTSTAMP:20260421T053246
CREATED:20250415T191247Z
LAST-MODIFIED:20250415T191340Z
UID:829-1747729800-1747846800@pagatewaytogreen.org
SUMMARY:Learn Do-It-Yourself Electronics for Environmental Monitoring
DESCRIPTION:When: Tuesday\, May 20 and Wednesday\, May 21\, 2025\, from 8:30 a.m. to 5 p.m.\n\n\n\nWhere: Stroud Water Research Center\, 970 Spencer Road\, Avondale\, PA 19311.\n\n\n\nAudience: Beginners and those with intermediate experience programming data loggers and using environmental monitoring equipment. State and federal agency staff; academic faculty; high school\, undergraduate\, and graduate students; and researchers from environmental NGOs and watershed organizations have attended previous workshops.\n\n\n\nCost: $135 per person. Registration is limited to 24.\n\n\n\n\n \n\n\n\n\nRegister Now\n\n\n\nLearn More\n\n\n\n\n \n\n\n\nEnviroDIY empowers researchers with innovative digital and electronic tools and training that enable cost-effective and customizable environmental measurements. This workshop is appropriate for beginners and those with intermediate experience programming data loggers and using environmental monitoring equipment. Topics include: \n\n\n\n\n– Programming electronic data loggers and connection with environmental sensors.\n\n\n\n– Transmission of data from data loggers to web-based data portals via cellular radio.\n\n\n\n– Assembling data loggers\, sensors\, cellular radios\, and solar panels into monitoring stations.\n\n\n\n– Deploying\, maintaining\, and troubleshooting monitoring stations.\n\n\n\n\n \n\n\n\nAttendees will acquire the skills necessary to assemble\, program\, and deploy a water monitoring station\, but with the understanding that the DIY journey has just begun! We can’t cover the wide world of DIY technologies in a single workshop\, but we’ll give you the foundational knowledge and resources to continue learning on your own.
URL:https://pagatewaytogreen.org/event/learn-do-it-yourself-electronics-for-environmental-monitoring/
LOCATION:Stroud Water Research Center\, 970 Spencer Road\, Avondale\, Pennsylvania\, 19311\, United States
END:VEVENT
END:VCALENDAR