BEGIN:VCALENDAR
VERSION:2.0
PRODID:-//Pennsylvania Gateway to Green - ECPv6.15.20//NONSGML v1.0//EN
CALSCALE:GREGORIAN
METHOD:PUBLISH
X-ORIGINAL-URL:https://pagatewaytogreen.org
X-WR-CALDESC:Events for Pennsylvania Gateway to Green
REFRESH-INTERVAL;VALUE=DURATION:PT1H
X-Robots-Tag:noindex
X-PUBLISHED-TTL:PT1H
BEGIN:VTIMEZONE
TZID:America/New_York
BEGIN:DAYLIGHT
TZOFFSETFROM:-0500
TZOFFSETTO:-0400
TZNAME:EDT
DTSTART:20250309T070000
END:DAYLIGHT
BEGIN:STANDARD
TZOFFSETFROM:-0400
TZOFFSETTO:-0500
TZNAME:EST
DTSTART:20251102T060000
END:STANDARD
BEGIN:DAYLIGHT
TZOFFSETFROM:-0500
TZOFFSETTO:-0400
TZNAME:EDT
DTSTART:20260308T070000
END:DAYLIGHT
BEGIN:STANDARD
TZOFFSETFROM:-0400
TZOFFSETTO:-0500
TZNAME:EST
DTSTART:20261101T060000
END:STANDARD
BEGIN:DAYLIGHT
TZOFFSETFROM:-0500
TZOFFSETTO:-0400
TZNAME:EDT
DTSTART:20270314T070000
END:DAYLIGHT
BEGIN:STANDARD
TZOFFSETFROM:-0400
TZOFFSETTO:-0500
TZNAME:EST
DTSTART:20271107T060000
END:STANDARD
END:VTIMEZONE
BEGIN:VEVENT
DTSTART;TZID=America/New_York:20260707T000000
DTEND;TZID=America/New_York:20260713T235959
DTSTAMP:20260421T153155
CREATED:20260205T174854Z
LAST-MODIFIED:20260205T174855Z
UID:939-1783382400-1783987199@pagatewaytogreen.org
SUMMARY:2026 Lake Superior Shipboard Science Immersion
DESCRIPTION:When: Tuesday\, July 7 to Monday\, July 13\, 2026.\n\n\n\nWhere: The ship will be on Lake Superior\, departing from and returning to Duluth\, MN.\n\n\n\nAudience: Grades 5-12 classroom teachers and nonformal educators from the Great Lakes states\, including Pennsylvania.\n\n\n\nCost: Free.\n\n\n\nMWEE Designation: MWEE and/or EL&S Special Topics and Deeper Dives.\n\n\n\n\n \n\n\n\n\nApply Now and Learn More\n\n\n\nDownload Flyer\n\n\n\n\n \n\n\n\nThe Shipboard Science Immersion brings educators aboard the EPA R/V Lake Guardian to work alongside scientists for a week. \n\n\n\nThe annual program promotes Great Lakes science while forging lasting relationships between Great Lakes scientists and educators. Center for Great Lakes Literacy (CGLL) is a collaborative effort led by Sea Grant educators throughout the Great Lakes watershed in the U.S. CGLL fosters informed and responsible decisions that advance basin-wide stewardship by providing hands-on experiences\, educational resources\, and networking opportunities promoting Great Lakes literacy among an engaged community of educators\, scientists\, and youth.  \n\n\n\nApplications are due February 28\, 2026.
URL:https://pagatewaytogreen.org/event/2026-lake-superior-shipboard-science-immersion/
LOCATION:Maryland
END:VEVENT
BEGIN:VEVENT
DTSTART;TZID=America/New_York:20260715T000000
DTEND;TZID=America/New_York:20260716T235959
DTSTAMP:20260421T153155
CREATED:20260407T174037Z
LAST-MODIFIED:20260407T184551Z
UID:972-1784073600-1784246399@pagatewaytogreen.org
SUMMARY:PA Aquaculture Educator Workshop
DESCRIPTION:When: Wednesday\, July 15\, 2026 from 1 to 6 p.m. and Thursday\, July 16\, 2026\, from 8 a.m. to 4:30 p.m.\n\n\n\nWhere: Tom Ridge Environmental Center\, Presque Isle State Park\, 301 Peninsula Drive\, Erie\, PA 16505.\n\n\n\nAudience: Pre-K-12 classroom teachers\, school administrators\, curriculum designers\, and nonformal educators.\n\n\n\nCredits: Act 48 continuing education hours will be provided for Pa. Certified Teachers.\n\n\n\nCost: Free\, including breakfast and lunch on Thursday.\n\n\n\n\n \n\n\n\n\nLearn More and Register Now\n\n\n\nDownload Flyer\n\n\n\n\n \n\n\n\nAquaponics is a powerful teaching tool for Pre-K-12 learners. From engineering to chemistry\, business to food health\, and even global food security\, aquaponics addresses many topics and applies placed-based learning methods. \n\n\n\nThis one-and-a-half day workshop will cover the basics of aquaculture and aquaponics and includes: local facilities tours\, make and take aquaponics system\, and resource sharing.
URL:https://pagatewaytogreen.org/event/pa-aquaculture-educator-workshop/
LOCATION:Presque Isle State Park\, 301 Peninsula Drive\, Erie\, Pennsylvania\, 16505\, United States
END:VEVENT
END:VCALENDAR