BEGIN:VCALENDAR
VERSION:2.0
PRODID:-//Pennsylvania Gateway to Green - ECPv6.15.20//NONSGML v1.0//EN
CALSCALE:GREGORIAN
METHOD:PUBLISH
X-WR-CALNAME:Pennsylvania Gateway to Green
X-ORIGINAL-URL:https://pagatewaytogreen.org
X-WR-CALDESC:Events for Pennsylvania Gateway to Green
REFRESH-INTERVAL;VALUE=DURATION:PT1H
X-Robots-Tag:noindex
X-PUBLISHED-TTL:PT1H
BEGIN:VTIMEZONE
TZID:America/New_York
BEGIN:DAYLIGHT
TZOFFSETFROM:-0500
TZOFFSETTO:-0400
TZNAME:EDT
DTSTART:20250309T070000
END:DAYLIGHT
BEGIN:STANDARD
TZOFFSETFROM:-0400
TZOFFSETTO:-0500
TZNAME:EST
DTSTART:20251102T060000
END:STANDARD
BEGIN:DAYLIGHT
TZOFFSETFROM:-0500
TZOFFSETTO:-0400
TZNAME:EDT
DTSTART:20260308T070000
END:DAYLIGHT
BEGIN:STANDARD
TZOFFSETFROM:-0400
TZOFFSETTO:-0500
TZNAME:EST
DTSTART:20261101T060000
END:STANDARD
BEGIN:DAYLIGHT
TZOFFSETFROM:-0500
TZOFFSETTO:-0400
TZNAME:EDT
DTSTART:20270314T070000
END:DAYLIGHT
BEGIN:STANDARD
TZOFFSETFROM:-0400
TZOFFSETTO:-0500
TZNAME:EST
DTSTART:20271107T060000
END:STANDARD
END:VTIMEZONE
BEGIN:VEVENT
DTSTART;TZID=America/New_York:20260210T150000
DTEND;TZID=America/New_York:20260210T160000
DTSTAMP:20260424T121611
CREATED:20260106T195623Z
LAST-MODIFIED:20260106T201043Z
UID:922-1770735600-1770739200@pagatewaytogreen.org
SUMMARY:Educator Webinar: From Field Trips to Field Experiences—Partnering for Meaningful Environmental Education
DESCRIPTION:When: Tuesday\, February 10\, 2026\, from 3 to 4 p.m.\n\n\n\nWhere: Virtual webinar.\n\n\n\nAudience: K-12 classroom teachers\, school administrators\, curriculum designers\, and nonformal educators.\n\n\n\nCost: Free.\n\n\n\nMWEE Designation: MWEE Special Topics and Deeper Dives.\n\n\n\n\n \n\n\n\n\nRegister Now\n\n\n\n\n \n\n\n\nThis session highlights how strong partnerships between environmental educators and public schools can transform environmental learning for students. By embedding the MWEE (Meaningful Watershed Educational Experience) framework into curriculum design\, schools and community partners can create seamless connections between classroom learning and authentic\, hands-on field investigations. Discover how Red Lion Area School District (Pennsylvania) used a “matchmaking” approach to connect grade levels with community partners—turning traditional field trips into purposeful\, inquiry-driven field experiences that extend and enrich classroom learning.
URL:https://pagatewaytogreen.org/event/from-field-trips-to-field-experiences/
LOCATION:Pennsylvania
END:VEVENT
BEGIN:VEVENT
DTSTART;TZID=America/New_York:20260219T154500
DTEND;TZID=America/New_York:20260219T163000
DTSTAMP:20260424T121611
CREATED:20260205T172848Z
LAST-MODIFIED:20260213T195744Z
UID:937-1771515900-1771518600@pagatewaytogreen.org
SUMMARY:MWEE PD Information Session for Educators in the Lake Erie Watershed of Pennsylvania
DESCRIPTION:When: Thursday\, February 19\, 2026\, from 3:45 to 4:30 p.m.\n\n\n\nWhere: Online via Zoom. A virtual meeting link will be sent after registration.\n\n\n\nAudience: K-12 classroom teachers\, preservice teachers\, school administrators\, curriculum designers\, and nonformal educators in the Lake Erie Watershed of Pennsylvania.\n\n\n\nCost: Free.\n\n\n\nMWEE Designation: MWEE Introduction.\n\n\n\n\n \n\n\n\n\nRegister Now\n\n\n\nDownload Flyer\n\n\n\n\n \n\n\n\nThis 45-minute virtual information session is a great step for both formal and nonformal educators in the Lake Erie Watershed of PA who are interested in pursuing a Pennsylvania Meaningful Watershed Educational Experiences (MWEE) Ambassador or Facilitator level certification.  \n\n\n\nWhat to expect:  \n\n\n\n\n– Understand how MWEEs align with the STEELS standards and place-based learning.\n\n\n\n– Learn more about the MWEE certification and professional development process.\n\n\n\n– Decide if the PA MWEE certification is right for you!
URL:https://pagatewaytogreen.org/event/mwee-pd-information-session-for-lake-erie-watershed/
LOCATION:Pennsylvania
END:VEVENT
BEGIN:VEVENT
DTSTART;TZID=America/New_York:20260226T163000
DTEND;TZID=America/New_York:20260226T180000
DTSTAMP:20260424T121611
CREATED:20260116T164606Z
LAST-MODIFIED:20260213T195923Z
UID:927-1772123400-1772128800@pagatewaytogreen.org
SUMMARY:A Deeper Dive into the Great Lakes Topic: Harmful Algal Blooms (HABs)
DESCRIPTION:When: Thursday\, February 26\, 2026\, from 4:30 to 6 p.m.\n\n\n\nWhere: Virtual.\n\n\n\nAudience: Grades 3-12 classroom teachers and nonformal educators.\n\n\n\nCost: Free.\n\n\n\nMWEE Designation: MWEE Introduction.\n\n\n\n\n \n\n\n\n\nRegister Now\n\n\n\nDownload Flyer\n\n\n\n\n \n\n\n\nCalling all educators of 3rd-12th graders! Register today for Pennsylvania Sea Grant and the Center for Great Lakes Literacy’s educator professional development program – A Deeper Dive into the Great Lakes Topic: Harmful Algal Blooms (HABs). This 90-minute session will include an overview of HABs\, an introduction to MWEEs\, a guest lecture from Dominique Derminio\, Ph.D.\, discussion time for resource sharing\, and tips for incorporating the topic with your learners.  \n\n\n\nRegister today! Space is limited; registration closes on February 13\, 2026. \n\n\n\nNOTE: You must complete the prerequisite GLLee learning module on Harmful Algal Blooms prior to the session to be eligible for this program.
URL:https://pagatewaytogreen.org/event/a-deeper-dive-into-the-great-lakes-topic-habs/
LOCATION:Pennsylvania
END:VEVENT
END:VCALENDAR